BEGIN:VCALENDAR
VERSION:2.0
PRODID:-//Integrated Living Opportunities - ECPv6.15.20//NONSGML v1.0//EN
CALSCALE:GREGORIAN
METHOD:PUBLISH
X-ORIGINAL-URL:https://www.ilonow.org
X-WR-CALDESC:Events for Integrated Living Opportunities
REFRESH-INTERVAL;VALUE=DURATION:PT1H
X-Robots-Tag:noindex
X-PUBLISHED-TTL:PT1H
BEGIN:VTIMEZONE
TZID:America/New_York
BEGIN:DAYLIGHT
TZOFFSETFROM:-0500
TZOFFSETTO:-0400
TZNAME:EDT
DTSTART:20250309T070000
END:DAYLIGHT
BEGIN:STANDARD
TZOFFSETFROM:-0400
TZOFFSETTO:-0500
TZNAME:EST
DTSTART:20251102T060000
END:STANDARD
BEGIN:DAYLIGHT
TZOFFSETFROM:-0500
TZOFFSETTO:-0400
TZNAME:EDT
DTSTART:20260308T070000
END:DAYLIGHT
BEGIN:STANDARD
TZOFFSETFROM:-0400
TZOFFSETTO:-0500
TZNAME:EST
DTSTART:20261101T060000
END:STANDARD
BEGIN:DAYLIGHT
TZOFFSETFROM:-0500
TZOFFSETTO:-0400
TZNAME:EDT
DTSTART:20270314T070000
END:DAYLIGHT
BEGIN:STANDARD
TZOFFSETFROM:-0400
TZOFFSETTO:-0500
TZNAME:EST
DTSTART:20271107T060000
END:STANDARD
END:VTIMEZONE
BEGIN:VEVENT
DTSTART;TZID=America/New_York:20260505T173000
DTEND;TZID=America/New_York:20260505T183000
DTSTAMP:20260423T171616
CREATED:20260423T130403Z
LAST-MODIFIED:20260423T130510Z
UID:10000923-1778002200-1778005800@www.ilonow.org
SUMMARY:Bethesda Weekly Pod Meet-Up
DESCRIPTION:Today we will celebrate Cinco de Mayo at Cactus Cantina!  Address: 3300 Wisconsin Ave.  All ILO members are welcome.  Please RSVP.
URL:https://www.ilonow.org/event/bethesda-weekly-pod-meet-up-46/
ORGANIZER;CN="Maria":MAILTO:info@ilonow.org
END:VEVENT
BEGIN:VEVENT
DTSTART;TZID=America/New_York:20260505T183000
DTEND;TZID=America/New_York:20260505T193000
DTSTAMP:20260423T171616
CREATED:20251219T135500Z
LAST-MODIFIED:20251219T135922Z
UID:10000804-1778005800-1778009400@www.ilonow.org
SUMMARY:Virtual Current Events
DESCRIPTION:This interactive Zoom call is open to all ILO Members. \nWe discuss the news of the week and share our opinions. \nYou do not need to RSVP.  The Zoom link to this activity is shared on “Group Me” on the day of the activity.
URL:https://www.ilonow.org/event/virtual-current-events-2024-12-03-3-2-3-2/2026-05-05/
ORGANIZER;CN="Michelle":MAILTO:mharris@ilonow.org
END:VEVENT
BEGIN:VEVENT
DTSTART;TZID=America/New_York:20260506T160000
DTEND;TZID=America/New_York:20260506T170000
DTSTAMP:20260423T171616
CREATED:20260423T131323Z
LAST-MODIFIED:20260423T131324Z
UID:10000924-1778083200-1778086800@www.ilonow.org
SUMMARY:DC Weekly Pod Meet-Up
DESCRIPTION:Today we will have Workout Wednesday or Walk-n-Talk at City Ridge.  All ILO members are welcome.  Please RSVP!
URL:https://www.ilonow.org/event/dc-weekly-pod-meet-up-40/
ORGANIZER;CN="Maria":MAILTO:info@ilonow.org
END:VEVENT
BEGIN:VEVENT
DTSTART;TZID=America/New_York:20260507T153000
DTEND;TZID=America/New_York:20260507T163000
DTSTAMP:20260423T171616
CREATED:20260423T131655Z
LAST-MODIFIED:20260423T131655Z
UID:10000925-1778167800-1778171400@www.ilonow.org
SUMMARY:Germantown Weekly Pod Meet-Up
DESCRIPTION:We are making crafts or playing a game at a local SA’s home. All ILO members welcome. Please RSVP.
URL:https://www.ilonow.org/event/germantown-weekly-pod-meet-up-46/
ORGANIZER;CN="Maria":MAILTO:info@ilonow.org
END:VEVENT
BEGIN:VEVENT
DTSTART;TZID=America/New_York:20260507T174500
DTEND;TZID=America/New_York:20260507T184500
DTSTAMP:20260423T171616
CREATED:20260423T133057Z
LAST-MODIFIED:20260423T133227Z
UID:10000926-1778175900-1778179500@www.ilonow.org
SUMMARY:Rockville Weekly Pod Meet-Up
DESCRIPTION:Game Night @ Shaun’s!! Bldg 37 at the Fenestra.  All ILO members are welcome.  Please RSVP.
URL:https://www.ilonow.org/event/rockville-weekly-pod-meet-up-23/
ORGANIZER;CN="Maria":MAILTO:info@ilonow.org
END:VEVENT
BEGIN:VEVENT
DTSTART;TZID=America/New_York:20260512T173000
DTEND;TZID=America/New_York:20260512T183000
DTSTAMP:20260423T171616
CREATED:20260423T133508Z
LAST-MODIFIED:20260423T133508Z
UID:10000927-1778607000-1778610600@www.ilonow.org
SUMMARY:Bethesda Weekly Pod Meet-Up
DESCRIPTION:We will play Games at Battery Lane Urban Park (weather permitting).  All ILO members are welcome.  Please RSVP!
URL:https://www.ilonow.org/event/bethesda-weekly-pod-meet-up-47/
ORGANIZER;CN="Maria":MAILTO:info@ilonow.org
END:VEVENT
BEGIN:VEVENT
DTSTART;TZID=America/New_York:20260512T183000
DTEND;TZID=America/New_York:20260512T193000
DTSTAMP:20260423T171616
CREATED:20251219T135500Z
LAST-MODIFIED:20251219T135922Z
UID:10000805-1778610600-1778614200@www.ilonow.org
SUMMARY:Virtual Current Events
DESCRIPTION:This interactive Zoom call is open to all ILO Members. \nWe discuss the news of the week and share our opinions. \nYou do not need to RSVP.  The Zoom link to this activity is shared on “Group Me” on the day of the activity.
URL:https://www.ilonow.org/event/virtual-current-events-2024-12-03-3-2-3-2/2026-05-12/
ORGANIZER;CN="Michelle":MAILTO:mharris@ilonow.org
END:VEVENT
BEGIN:VEVENT
DTSTART;TZID=America/New_York:20260513T160000
DTEND;TZID=America/New_York:20260513T170000
DTSTAMP:20260423T171616
CREATED:20260423T133821Z
LAST-MODIFIED:20260423T135021Z
UID:10000928-1778688000-1778691600@www.ilonow.org
SUMMARY:DC Weekly Pod Meet-Up
DESCRIPTION:Today we will go for ice cream at Thomas Sweet – 3214 P Street NW.  All ILO members are welcome.  Please RSVP.
URL:https://www.ilonow.org/event/dc-weekly-pod-meet-up-41/
ORGANIZER;CN="Maria":MAILTO:info@ilonow.org
END:VEVENT
BEGIN:VEVENT
DTSTART;TZID=America/New_York:20260514T153000
DTEND;TZID=America/New_York:20260514T163000
DTSTAMP:20260423T171616
CREATED:20260423T135720Z
LAST-MODIFIED:20260423T135720Z
UID:10000929-1778772600-1778776200@www.ilonow.org
SUMMARY:Germantown Weekly Pod Meet-Up
DESCRIPTION:We are making crafts or playing a game at a local SA’s home. All ILO members welcome. Please RSVP.
URL:https://www.ilonow.org/event/germantown-weekly-pod-meet-up-47/
ORGANIZER;CN="Maria":MAILTO:info@ilonow.org
END:VEVENT
BEGIN:VEVENT
DTSTART;TZID=America/New_York:20260514T174500
DTEND;TZID=America/New_York:20260514T184500
DTSTAMP:20260423T171616
CREATED:20260423T140443Z
LAST-MODIFIED:20260423T140654Z
UID:10000930-1778780700-1778784300@www.ilonow.org
SUMMARY:Rockville Weekly Pod Meet-Up
DESCRIPTION:Rockville Pod Check-In and Movie Night @ the Regal – we will see “Michael”.  Time TBD.  All ILO members are welcome.  Please RSVP!!
URL:https://www.ilonow.org/event/rockville-weekly-pod-meet-up-24/
ORGANIZER;CN="Maria":MAILTO:info@ilonow.org
END:VEVENT
BEGIN:VEVENT
DTSTART;TZID=America/New_York:20260515T100000
DTEND;TZID=America/New_York:20260515T110000
DTSTAMP:20260423T171616
CREATED:20260423T151314Z
LAST-MODIFIED:20260423T151715Z
UID:10000934-1778839200-1778842800@www.ilonow.org
SUMMARY:Volunteer Opportunity @ Small Things Matter
DESCRIPTION:Small Things Matter: fresh produce community distributions for Takoma Park and Silver Spring residents take place on the 1st and 3rd Fridays of each month from 10am-11am at the TP Seventh Day Adventist Church (6951 Carroll Ave\, Takoma Park\, MD 20912)  All are welcome!! 
URL:https://www.ilonow.org/event/volunteer-opportunity-small-things-matter/
END:VEVENT
BEGIN:VEVENT
DTSTART;TZID=America/New_York:20260519T173000
DTEND;TZID=America/New_York:20260519T183000
DTSTAMP:20260423T171616
CREATED:20260423T141323Z
LAST-MODIFIED:20260423T141323Z
UID:10000931-1779211800-1779215400@www.ilonow.org
SUMMARY:Bethesda Weekly Pod Meet-Up
DESCRIPTION:TBD
URL:https://www.ilonow.org/event/bethesda-weekly-pod-meet-up-48/
ORGANIZER;CN="Maria":MAILTO:info@ilonow.org
END:VEVENT
BEGIN:VEVENT
DTSTART;TZID=America/New_York:20260519T183000
DTEND;TZID=America/New_York:20260519T193000
DTSTAMP:20260423T171616
CREATED:20251219T135500Z
LAST-MODIFIED:20251219T135922Z
UID:10000806-1779215400-1779219000@www.ilonow.org
SUMMARY:Virtual Current Events
DESCRIPTION:This interactive Zoom call is open to all ILO Members. \nWe discuss the news of the week and share our opinions. \nYou do not need to RSVP.  The Zoom link to this activity is shared on “Group Me” on the day of the activity.
URL:https://www.ilonow.org/event/virtual-current-events-2024-12-03-3-2-3-2/2026-05-19/
ORGANIZER;CN="Michelle":MAILTO:mharris@ilonow.org
END:VEVENT
BEGIN:VEVENT
DTSTART;TZID=America/New_York:20260520T160000
DTEND;TZID=America/New_York:20260520T170000
DTSTAMP:20260423T171616
CREATED:20260423T141825Z
LAST-MODIFIED:20260423T141825Z
UID:10000932-1779292800-1779296400@www.ilonow.org
SUMMARY:DC Weekly Pod Meet-Up
DESCRIPTION:We are celebrating Ellie’s birthday today and having a cookout at City Ridge!!  All ILO members are welcome.  Please RSVP!
URL:https://www.ilonow.org/event/dc-weekly-pod-meet-up-42/
ORGANIZER;CN="Maria":MAILTO:info@ilonow.org
END:VEVENT
BEGIN:VEVENT
DTSTART;TZID=America/New_York:20260521T174500
DTEND;TZID=America/New_York:20260521T184500
DTSTAMP:20260423T171616
CREATED:20260423T142259Z
LAST-MODIFIED:20260423T142259Z
UID:10000933-1779385500-1779389100@www.ilonow.org
SUMMARY:Rockville Weekly Pod Meet-Up
DESCRIPTION:We are taking a bus trip to ILO’s office space (1801 Research Blvd.) & having game night.  Meet ILO staff in front of Main Street at 5:45.  All ILO members are welcome.  Please RSVP.
URL:https://www.ilonow.org/event/rockville-weekly-pod-meet-up-25/
ORGANIZER;CN="Maria":MAILTO:info@ilonow.org
END:VEVENT
BEGIN:VEVENT
DTSTART;TZID=America/New_York:20260526T160000
DTEND;TZID=America/New_York:20260526T170000
DTSTAMP:20260423T171616
CREATED:20260423T153134Z
LAST-MODIFIED:20260423T153134Z
UID:10000935-1779811200-1779814800@www.ilonow.org
SUMMARY:Bethesda Weekly Pod Meet-Up
DESCRIPTION:TBD
URL:https://www.ilonow.org/event/bethesda-weekly-pod-meet-up-49/
ORGANIZER;CN="Maria":MAILTO:info@ilonow.org
END:VEVENT
BEGIN:VEVENT
DTSTART;TZID=America/New_York:20260526T183000
DTEND;TZID=America/New_York:20260526T193000
DTSTAMP:20260423T171616
CREATED:20251219T135500Z
LAST-MODIFIED:20251219T135922Z
UID:10000807-1779820200-1779823800@www.ilonow.org
SUMMARY:Virtual Current Events
DESCRIPTION:This interactive Zoom call is open to all ILO Members. \nWe discuss the news of the week and share our opinions. \nYou do not need to RSVP.  The Zoom link to this activity is shared on “Group Me” on the day of the activity.
URL:https://www.ilonow.org/event/virtual-current-events-2024-12-03-3-2-3-2/2026-05-26/
ORGANIZER;CN="Michelle":MAILTO:mharris@ilonow.org
END:VEVENT
BEGIN:VEVENT
DTSTART;TZID=America/New_York:20260527T160000
DTEND;TZID=America/New_York:20260527T170000
DTSTAMP:20260423T171616
CREATED:20260423T163030Z
LAST-MODIFIED:20260423T163030Z
UID:10000936-1779897600-1779901200@www.ilonow.org
SUMMARY:DC Weekly Pod Meet-Up
DESCRIPTION:Today we will play Connect Four at City Ridge.  All ILO members are welcome.  Please RSVP.
URL:https://www.ilonow.org/event/dc-weekly-pod-meet-up-43/
ORGANIZER;CN="Maria":MAILTO:info@ilonow.org
END:VEVENT
BEGIN:VEVENT
DTSTART;TZID=America/New_York:20260528T153000
DTEND;TZID=America/New_York:20260528T163000
DTSTAMP:20260423T171616
CREATED:20260423T163642Z
LAST-MODIFIED:20260423T163642Z
UID:10000938-1779982200-1779985800@www.ilonow.org
SUMMARY:Germantown Weekly Pod Meet-Up
DESCRIPTION:We are making crafts or playing a game at a local SA’s home. All ILO members welcome. Please RSVP.
URL:https://www.ilonow.org/event/germantown-weekly-pod-meet-up-48/
ORGANIZER;CN="Maria":MAILTO:info@ilonow.org
END:VEVENT
BEGIN:VEVENT
DTSTART;TZID=America/New_York:20260528T174500
DTEND;TZID=America/New_York:20260528T184500
DTSTAMP:20260423T171616
CREATED:20260423T163407Z
LAST-MODIFIED:20260423T163407Z
UID:10000937-1779990300-1779993900@www.ilonow.org
SUMMARY:Rockville Weekly Pod Meet-Up
DESCRIPTION:Today we’re playing Bingo at the Fenestra club room\, 154 Gibb St.  Group to meet ILO staff at Five Guys beforehand.  All ILO members are welcome.  Please RSVP.
URL:https://www.ilonow.org/event/rockville-weekly-pod-meet-up-26/
ORGANIZER;CN="Maria":MAILTO:info@ilonow.org
END:VEVENT
BEGIN:VEVENT
DTSTART;TZID=America/New_York:20260529T173000
DTEND;TZID=America/New_York:20260529T190000
DTSTAMP:20260423T171616
CREATED:20260423T164138Z
LAST-MODIFIED:20260423T164420Z
UID:10000939-1780075800-1780081200@www.ilonow.org
SUMMARY:ALL POD - May Birthday Dinner
DESCRIPTION:We are celebrating the May birthdays at Matchbox\, 1699 Rockville Pike. All ILO members are welcome.  Please RSVP.  *** Please note: the RSVP deadline is 5/22***
URL:https://www.ilonow.org/event/all-pod-may-birthday-dinner-2/
ORGANIZER;CN="Maria":MAILTO:info@ilonow.org
END:VEVENT
BEGIN:VEVENT
DTSTART;TZID=America/New_York:20260602T183000
DTEND;TZID=America/New_York:20260602T193000
DTSTAMP:20260423T171616
CREATED:20251219T135500Z
LAST-MODIFIED:20251219T135922Z
UID:10000808-1780425000-1780428600@www.ilonow.org
SUMMARY:Virtual Current Events
DESCRIPTION:This interactive Zoom call is open to all ILO Members. \nWe discuss the news of the week and share our opinions. \nYou do not need to RSVP.  The Zoom link to this activity is shared on “Group Me” on the day of the activity.
URL:https://www.ilonow.org/event/virtual-current-events-2024-12-03-3-2-3-2/2026-06-02/
ORGANIZER;CN="Michelle":MAILTO:mharris@ilonow.org
END:VEVENT
BEGIN:VEVENT
DTSTART;TZID=America/New_York:20260609T183000
DTEND;TZID=America/New_York:20260609T193000
DTSTAMP:20260423T171616
CREATED:20251219T135500Z
LAST-MODIFIED:20251219T135922Z
UID:10000809-1781029800-1781033400@www.ilonow.org
SUMMARY:Virtual Current Events
DESCRIPTION:This interactive Zoom call is open to all ILO Members. \nWe discuss the news of the week and share our opinions. \nYou do not need to RSVP.  The Zoom link to this activity is shared on “Group Me” on the day of the activity.
URL:https://www.ilonow.org/event/virtual-current-events-2024-12-03-3-2-3-2/2026-06-09/
ORGANIZER;CN="Michelle":MAILTO:mharris@ilonow.org
END:VEVENT
BEGIN:VEVENT
DTSTART;TZID=America/New_York:20260616T183000
DTEND;TZID=America/New_York:20260616T193000
DTSTAMP:20260423T171616
CREATED:20251219T135500Z
LAST-MODIFIED:20251219T135922Z
UID:10000810-1781634600-1781638200@www.ilonow.org
SUMMARY:Virtual Current Events
DESCRIPTION:This interactive Zoom call is open to all ILO Members. \nWe discuss the news of the week and share our opinions. \nYou do not need to RSVP.  The Zoom link to this activity is shared on “Group Me” on the day of the activity.
URL:https://www.ilonow.org/event/virtual-current-events-2024-12-03-3-2-3-2/2026-06-16/
ORGANIZER;CN="Michelle":MAILTO:mharris@ilonow.org
END:VEVENT
BEGIN:VEVENT
DTSTART;TZID=America/New_York:20260623T183000
DTEND;TZID=America/New_York:20260623T193000
DTSTAMP:20260423T171616
CREATED:20251219T135500Z
LAST-MODIFIED:20251219T135922Z
UID:10000811-1782239400-1782243000@www.ilonow.org
SUMMARY:Virtual Current Events
DESCRIPTION:This interactive Zoom call is open to all ILO Members. \nWe discuss the news of the week and share our opinions. \nYou do not need to RSVP.  The Zoom link to this activity is shared on “Group Me” on the day of the activity.
URL:https://www.ilonow.org/event/virtual-current-events-2024-12-03-3-2-3-2/2026-06-23/
ORGANIZER;CN="Michelle":MAILTO:mharris@ilonow.org
END:VEVENT
BEGIN:VEVENT
DTSTART;TZID=America/New_York:20260630T183000
DTEND;TZID=America/New_York:20260630T193000
DTSTAMP:20260423T171616
CREATED:20251219T135500Z
LAST-MODIFIED:20251219T135922Z
UID:10000812-1782844200-1782847800@www.ilonow.org
SUMMARY:Virtual Current Events
DESCRIPTION:This interactive Zoom call is open to all ILO Members. \nWe discuss the news of the week and share our opinions. \nYou do not need to RSVP.  The Zoom link to this activity is shared on “Group Me” on the day of the activity.
URL:https://www.ilonow.org/event/virtual-current-events-2024-12-03-3-2-3-2/2026-06-30/
ORGANIZER;CN="Michelle":MAILTO:mharris@ilonow.org
END:VEVENT
BEGIN:VEVENT
DTSTART;TZID=America/New_York:20260707T183000
DTEND;TZID=America/New_York:20260707T193000
DTSTAMP:20260423T171616
CREATED:20251219T135500Z
LAST-MODIFIED:20251219T135922Z
UID:10000813-1783449000-1783452600@www.ilonow.org
SUMMARY:Virtual Current Events
DESCRIPTION:This interactive Zoom call is open to all ILO Members. \nWe discuss the news of the week and share our opinions. \nYou do not need to RSVP.  The Zoom link to this activity is shared on “Group Me” on the day of the activity.
URL:https://www.ilonow.org/event/virtual-current-events-2024-12-03-3-2-3-2/2026-07-07/
ORGANIZER;CN="Michelle":MAILTO:mharris@ilonow.org
END:VEVENT
BEGIN:VEVENT
DTSTART;TZID=America/New_York:20260714T183000
DTEND;TZID=America/New_York:20260714T193000
DTSTAMP:20260423T171616
CREATED:20251219T135500Z
LAST-MODIFIED:20251219T135922Z
UID:10000814-1784053800-1784057400@www.ilonow.org
SUMMARY:Virtual Current Events
DESCRIPTION:This interactive Zoom call is open to all ILO Members. \nWe discuss the news of the week and share our opinions. \nYou do not need to RSVP.  The Zoom link to this activity is shared on “Group Me” on the day of the activity.
URL:https://www.ilonow.org/event/virtual-current-events-2024-12-03-3-2-3-2/2026-07-14/
ORGANIZER;CN="Michelle":MAILTO:mharris@ilonow.org
END:VEVENT
BEGIN:VEVENT
DTSTART;TZID=America/New_York:20260721T183000
DTEND;TZID=America/New_York:20260721T193000
DTSTAMP:20260423T171616
CREATED:20251219T135500Z
LAST-MODIFIED:20251219T135922Z
UID:10000815-1784658600-1784662200@www.ilonow.org
SUMMARY:Virtual Current Events
DESCRIPTION:This interactive Zoom call is open to all ILO Members. \nWe discuss the news of the week and share our opinions. \nYou do not need to RSVP.  The Zoom link to this activity is shared on “Group Me” on the day of the activity.
URL:https://www.ilonow.org/event/virtual-current-events-2024-12-03-3-2-3-2/2026-07-21/
ORGANIZER;CN="Michelle":MAILTO:mharris@ilonow.org
END:VEVENT
BEGIN:VEVENT
DTSTART;TZID=America/New_York:20260728T183000
DTEND;TZID=America/New_York:20260728T193000
DTSTAMP:20260423T171616
CREATED:20251219T135500Z
LAST-MODIFIED:20251219T135922Z
UID:10000816-1785263400-1785267000@www.ilonow.org
SUMMARY:Virtual Current Events
DESCRIPTION:This interactive Zoom call is open to all ILO Members. \nWe discuss the news of the week and share our opinions. \nYou do not need to RSVP.  The Zoom link to this activity is shared on “Group Me” on the day of the activity.
URL:https://www.ilonow.org/event/virtual-current-events-2024-12-03-3-2-3-2/2026-07-28/
ORGANIZER;CN="Michelle":MAILTO:mharris@ilonow.org
END:VEVENT
END:VCALENDAR