BEGIN:VCALENDAR
VERSION:2.0
PRODID:-//Integrated Living Opportunities - ECPv6.15.17.1//NONSGML v1.0//EN
CALSCALE:GREGORIAN
METHOD:PUBLISH
X-WR-CALNAME:Integrated Living Opportunities
X-ORIGINAL-URL:https://www.ilonow.org
X-WR-CALDESC:Events for Integrated Living Opportunities
REFRESH-INTERVAL;VALUE=DURATION:PT1H
X-Robots-Tag:noindex
X-PUBLISHED-TTL:PT1H
BEGIN:VTIMEZONE
TZID:America/New_York
BEGIN:DAYLIGHT
TZOFFSETFROM:-0500
TZOFFSETTO:-0400
TZNAME:EDT
DTSTART:20250309T070000
END:DAYLIGHT
BEGIN:STANDARD
TZOFFSETFROM:-0400
TZOFFSETTO:-0500
TZNAME:EST
DTSTART:20251102T060000
END:STANDARD
BEGIN:DAYLIGHT
TZOFFSETFROM:-0500
TZOFFSETTO:-0400
TZNAME:EDT
DTSTART:20260308T070000
END:DAYLIGHT
BEGIN:STANDARD
TZOFFSETFROM:-0400
TZOFFSETTO:-0500
TZNAME:EST
DTSTART:20261101T060000
END:STANDARD
BEGIN:DAYLIGHT
TZOFFSETFROM:-0500
TZOFFSETTO:-0400
TZNAME:EDT
DTSTART:20270314T070000
END:DAYLIGHT
BEGIN:STANDARD
TZOFFSETFROM:-0400
TZOFFSETTO:-0500
TZNAME:EST
DTSTART:20271107T060000
END:STANDARD
END:VTIMEZONE
BEGIN:VEVENT
DTSTART;TZID=America/New_York:20260421T173000
DTEND;TZID=America/New_York:20260421T193000
DTSTAMP:20260421T020718
CREATED:20260323T143006Z
LAST-MODIFIED:20260420T163925Z
UID:10000914-1776792600-1776799800@www.ilonow.org
SUMMARY:Bethesda Weekly Pod Meet-Up
DESCRIPTION:Today we are going to play Bocce at Pinstripes\,11920 Grand Park Ave\, North Bethesda. The fee is $7/per person/per hour and no shoe rental!!  Bring money to pay onsite at Pinstripes\, as well as for food and beverages.  SAs must have own transportation.  All ILO members are welcome.  Please RSVP by or before Friday\, April 17th.
URL:https://www.ilonow.org/event/bethesda-weekly-pod-meet-up-44/
ORGANIZER;CN="Maria":MAILTO:info@ilonow.org
END:VEVENT
BEGIN:VEVENT
DTSTART;TZID=America/New_York:20260421T183000
DTEND;TZID=America/New_York:20260421T193000
DTSTAMP:20260421T020718
CREATED:20251219T135500Z
LAST-MODIFIED:20251219T135922Z
UID:10000802-1776796200-1776799800@www.ilonow.org
SUMMARY:Virtual Current Events
DESCRIPTION:This interactive Zoom call is open to all ILO Members. \nWe discuss the news of the week and share our opinions. \nYou do not need to RSVP.  The Zoom link to this activity is shared on “Group Me” on the day of the activity.
URL:https://www.ilonow.org/event/virtual-current-events-2024-12-03-3-2-3-2/2026-04-21/
ORGANIZER;CN="Michelle":MAILTO:mharris@ilonow.org
END:VEVENT
END:VCALENDAR